Workbook
Name Agency: #REF!
Name allocationlist: #REF!
Name Boolean: #REF!
Name Boolean_2: #REF!
Name bulist: #REF!
Name bulist: #REF!
Name bulist: #REF!
Name bulist: [1]BU!$C$4:$J$106
Name bulist: [1]BU!$C$4:$J$106
Name cobdata: '[2]2025 COB Estimates'!$B$4:$Z$145
Name cobdata: '[1]2025 COB Estimates'!$B$4:$Z$145
Name cobdata: '2025 COB Estimates'!$B$4:$Z$145
Name cobratio: [3]breakdown!$BE$6:$BQ$25
Name COBTABLE: '2026 COB breakdown_new'!$A$6:$AL$104
Name COBTABLE: '2026 COB breakdown_new'!$A$6:$AL$104
Name contactlist: #REF!
Name contactlist: #REF!
Name contactlist: #REF!
Name contactlist: '[1]contact list'!$C$3:$H$124
Name contactlist: '[1]contact list'!$C$3:$H$124
Name coreratio: '[3]OP8 PIF1 Analysis'!$C$4
Name coreratio: '[3]OP8 PIF1 Analysis'!$C$4
Name coreratio: '[3]OP8 PIF1 Analysis'!$C$4
Name coreratio: '[3]OP8 PIF1 Analysis'!$C$4
Name coreratio: breakdown!$J$6:$Q$25
Name coreratio2: breakdown!$AC$6:$AJ$25
Name coreratio3: breakdown!$AV$6:$BC$25
Name coreratio4: breakdown!$BO$6:$BV$25
Name Countries_in_part1_PIF: #REF!
Name Countries_in_part1_PIF: #REF!
Name countryexp: '[4]PIMS report'!$A$1:$Z$100
Name countrygrant: 'country project'!$C$5:$F$103
Name countrylist: #REF!
Name countrylist: #REF!
Name countrylist: '[4]PIMS budget_OP8 PIF1'!$A$3:$K$101
Name countrylist: #REF!
Name countrylist: '[1]PIMS budget_OP8 PIF1'!$A$3:$K$101
Name countrylist: '[1]PIMS budget_OP8 PIF1'!$A$3:$K$101
Name countrylistpif1: #REF!
Name COUNTRYLISTPIF1: '[5]country list_PIF 1'!$A$2:$C$100
Name COUNTRYLISTPIF1: '[5]country list_PIF 1'!$A$2:$C$100
Name COUNTRYLISTPIF1: '[5]country list_PIF 1'!$A$2:$C$100
Name COUNTRYLISTPIF1: '[5]country list_PIF 1'!$A$2:$C$100
Name COUNTRYLISTPIF1: '[5]country list_PIF 1'!$A$2:$C$100
Name COUNTRYLISTPIF1: '[5]country list_PIF 1'!$A$2:$C$100
Name COUNTRYLISTPIF1: '[5]country list_PIF 1'!$A$2:$C$100
Name COUNTRYLISTPIF1: '[5]country list_PIF 1'!$A$2:$C$100
Name COUNTRYLISTPIF1: '[5]country list_PIF 1'!$A$2:$C$100
Name COUNTRYLISTPIF1: '[5]country list_PIF 1'!$A$2:$C$100
Name COUNTRYLISTPIF1: '[5]country list_PIF 1'!$A$2:$C$100
Name COUNTRYLISTPIF1: '[5]country list_PIF 1'!$A$2:$C$100
Name COUNTRYLISTPIF1: '[5]country list_PIF 1'!$A$2:$C$100
Name COUNTRYLISTPIF1: '[5]country list_PIF 1'!$A$2:$C$100
Name COUNTRYLISTPIF1: '[5]country list_PIF 1'!$A$2:$C$100
Name COUNTRYLISTPIF1: '[5]country list_PIF 1'!$A$2:$C$100
Name COUNTRYLISTPIF1: '[5]country list_PIF 1'!$A$2:$C$100
Name COUNTRYLISTPIF1: '[5]country list_PIF 1'!$A$2:$C$100
Name COUNTRYLISTPIF1: '[5]country list_PIF 1'!$A$2:$C$100
Name COUNTRYLISTPIF1: '[5]country list_PIF 1'!$A$2:$C$100
Name COUNTRYLISTPIF1: '[5]country list_PIF 1'!$A$2:$C$100

Sheet global & 99 COs
A3: Quantum Outcome (GEF Component) | B3: Quantum Activity (GEF Output) | C3: Quantum UNDP(UNDP, IP) | D3: Quantum Fund ID | E3: Quantum Donor ID | F3: Output | G3: Expenditure Category GEF | H3: Quantum Budgetary Account Code | I3: Quantum Budget Account Description | J3: Amount Year 2025 | K3: Amount Year 2026 | L3: Amount Year 2027 | M3: Amount Year 2028 | N3: Total (USD) | O3: See Budget Note: (reference as number, not as letter)
A4: Component 1: Strategic Planning and Multi-Stakeholder Governance | B4: Outcome 1.1. Enabling environment strengthened for effective community-driven integrated approaches_CORE | C4: UNDP | D4: 62000 | E4: 10003 | F4: Outcome 1.1_CORE | G4: International Consultants | H4: 71200 | I4: International Consultants | J4: =global!J4+'4 RPA COs'!M4+'95 COs'!J8 -> 9336 | K4: =global!K4+'4 RPA COs'!N4+'95 COs'!K8 -> 9336 | L4: =global!L4+'4 RPA COs'!O4+'95 COs'!L8 -> 9336 | M4: =global!M4+'4 RPA COs'!P4+'95 COs'!M8 -> 9337 | N4: =SUM(J4:M4) -> 37345
F5: Outcome 1.1_CORE | G5: Local Consultants | H5: 71300 | I5: Local Consultants | J5: =global!J5+'4 RPA COs'!M5+'95 COs'!J9 -> 36956 | K5: =global!K5+'4 RPA COs'!N5+'95 COs'!K9 -> 37541 | L5: =global!L5+'4 RPA COs'!O5+'95 COs'!L9 -> 37523 | M5: =global!M5+'4 RPA COs'!P5+'95 COs'!M9 -> 37524 | N5: =SUM(J5:M5) -> 149544
F6: Outcome 1.1_CORE | G6: Contractual Services | H6: 71400 | I6: Contractual Services - Individ | J6: =global!J6+'4 RPA COs'!M6+'95 COs'!J10 -> 567651 | K6: =global!K6+'4 RPA COs'!N6+'95 COs'!K10 -> 576648 | L6: =global!L6+'4 RPA COs'!O6+'95 COs'!L10 -> 576384 | M6: =global!M6+'4 RPA COs'!P6+'95 COs'!M10 -> 576381 | N6: =SUM(J6:M6) -> 2297064
F7: Outcome 1.1_CORE | G7: Travel | H7: 71600 | I7: Travel | J7: =global!J7+'4 RPA COs'!M7+'95 COs'!J11 -> 60385 | K7: =global!K7+'4 RPA COs'!N7+'95 COs'!K11 -> 61342 | L7: =global!L7+'4 RPA COs'!O7+'95 COs'!L11 -> 61315 | M7: =global!M7+'4 RPA COs'!P7+'95 COs'!M11 -> 61312 | N7: =SUM(J7:M7) -> 244354
F8: Outcome 1.1_CORE | G8: Office Supplies | H8: 72500 | I8: Supplies | J8: =global!J8+'4 RPA COs'!M8+'95 COs'!J12 -> 2334 | K8: =global!K8+'4 RPA COs'!N8+'95 COs'!K12 -> 2370 | L8: =global!L8+'4 RPA COs'!O8+'95 COs'!L12 -> 2370 | M8: =global!M8+'4 RPA COs'!P8+'95 COs'!M12 -> 2368 | N8: =SUM(J8:M8) -> 9442
F9: Outcome 1.1_CORE | G9: Trainings, Workshops, Meetings | H9: 75700 | I9: Training, Workshops and Confer | J9: =global!J9+'4 RPA COs'!M9+'95 COs'!J13 -> 11812 | K9: =global!K9+'4 RPA COs'!N9+'95 COs'!K13 -> 12001 | L9: =global!L9+'4 RPA COs'!O9+'95 COs'!L13 -> 11995 | M9: =global!M9+'4 RPA COs'!P9+'95 COs'!M13 -> 11991 | N9: =SUM(J9:M9) -> 47799
F10: Outcome 1.1_CORE | G10: Salaries and Benefits | H10: 61200 | I10: Salaries Costs - GS Staff | J10: =global!J10+'4 RPA COs'!M10+'95 COs'!J14 -> 76136 | K10: =global!K10+'4 RPA COs'!N10+'95 COs'!K14 -> 76136 | L10: =global!L10+'4 RPA COs'!O10+'95 COs'!L14 -> 76136 | M10: =global!M10+'4 RPA COs'!P10+'95 COs'!M14 -> 76135 | N10: =SUM(J10:M10) -> 304543
F11: Outcome 1.1_CORE | G11: Salaries and Benefits | H11: 61300 | I11: Salary & Post Adj Cst-IP Staff | J11: =global!J11+'4 RPA COs'!M11+'95 COs'!J15 -> 139206 | K11: =global!K11+'4 RPA COs'!N11+'95 COs'!K15 -> 139206 | L11: =global!L11+'4 RPA COs'!O11+'95 COs'!L15 -> 139206 | M11: =global!M11+'4 RPA COs'!P11+'95 COs'!M15 -> 139205 | N11: =SUM(J11:M11) -> 556823
C12: Total UNDP | J12: =SUM(J4:J11) -> 903816 | K12: =SUM(K4:K11) -> 914580 | L12: =SUM(L4:L11) -> 914265 | M12: =SUM(M4:M11) -> 914253 | N12: =SUM(N4:N11) -> 3646914
B13: Total Outcome 1.1. Enabling environment strengthened for effective community-driven integrated approaches_CORE | J13: =J12 -> 903816 | K13: =K12 -> 914580 | L13: =L12 -> 914265 | M13: =M12 -> 914253 | N13: =N12 -> 3646914
B14: Outcome 1.1. Enabling environment strengthened for effective community-driven integrated approaches_STAR | C14: UNDP | D14: 62000 | E14: 10003 | F14: Outcome 1.1_STAR | G14: International Consultants | H14: 71200 | I14: International Consultants | J14: =global!J14+'4 RPA COs'!M14+'95 COs'!J18 -> 9688 | K14: =global!K14+'4 RPA COs'!N14+'95 COs'!K18 -> 9688 | L14: =global!L14+'4 RPA COs'!O14+'95 COs'!L18 -> 9688 | M14: =global!M14+'4 RPA COs'!P14+'95 COs'!M18 -> 9688 | N14: =SUM(J14:M14) -> 38752
F15: Outcome 1.1_STAR | G15: Local Consultants | H15: 71300 | I15: Local Consultants | J15: =global!J15+'4 RPA COs'!M15+'95 COs'!J19 -> 27525 | K15: =global!K15+'4 RPA COs'!N15+'95 COs'!K19 -> 42853 | L15: =global!L15+'4 RPA COs'!O15+'95 COs'!L19 -> 42401 | M15: =global!M15+'4 RPA COs'!P15+'95 COs'!M19 -> 42399 | N15: =SUM(J15:M15) -> 155178
F16: Outcome 1.1_STAR | G16: Contractual Services | H16: 71400 | I16: Contractual Services - Individ | J16: =global!J16+'4 RPA COs'!M16+'95 COs'!J20 -> 451472 | K16: =global!K16+'4 RPA COs'!N16+'95 COs'!K20 -> 647901 | L16: =global!L16+'4 RPA COs'!O16+'95 COs'!L20 -> 642124 | M16: =global!M16+'4 RPA COs'!P16+'95 COs'!M20 -> 642120 | N16: =SUM(J16:M16) -> 2383617
F17: Outcome 1.1_STAR | G17: Travel | H17: 71600 | I17: Travel | J17: =global!J17+'4 RPA COs'!M17+'95 COs'!J21 -> 44975 | K17: =global!K17+'4 RPA COs'!N17+'95 COs'!K21 -> 70019 | L17: =global!L17+'4 RPA COs'!O17+'95 COs'!L21 -> 69283 | M17: =global!M17+'4 RPA COs'!P17+'95 COs'!M21 -> 69284 | N17: =SUM(J17:M17) -> 253561
F18: Outcome 1.1_STAR | G18: Office Supplies | H18: 72500 | I18: Supplies | J18: =global!J18+'4 RPA COs'!M18+'95 COs'!J22 -> 1738 | K18: =global!K18+'4 RPA COs'!N18+'95 COs'!K22 -> 2705 | L18: =global!L18+'4 RPA COs'!O18+'95 COs'!L22 -> 2678 | M18: =global!M18+'4 RPA COs'!P18+'95 COs'!M22 -> 2676 | N18: =SUM(J18:M18) -> 9797
F19: Outcome 1.1_STAR | G19: Trainings, Workshops, Meetings | H19: 75700 | I19: Training, Workshops and Confer | J19: =global!J19+'4 RPA COs'!M19+'95 COs'!J23 -> 8798 | K19: =global!K19+'4 RPA COs'!N19+'95 COs'!K23 -> 13697 | L19: =global!L19+'4 RPA COs'!O19+'95 COs'!L23 -> 13553 | M19: =global!M19+'4 RPA COs'!P19+'95 COs'!M23 -> 13552 | N19: =SUM(J19:M19) -> 49600
F20: Outcome 1.1_STAR | G20: Salaries and Benefits | H20: 61200 | I20: Salaries Costs - GS Staff | J20: =global!J20+'4 RPA COs'!M20+'95 COs'!J24 -> 79005 | K20: =global!K20+'4 RPA COs'!N20+'95 COs'!K24 -> 79005 | L20: =global!L20+'4 RPA COs'!O20+'95 COs'!L24 -> 79005 | M20: =global!M20+'4 RPA COs'!P20+'95 COs'!M24 -> 79004 | N20: =SUM(J20:M20) -> 316019
F21: Outcome 1.1_STAR | G21: Salaries and Benefits | H21: 61300 | I21: Salary & Post Adj Cst-IP Staff | J21: =global!J21+'4 RPA COs'!M21+'95 COs'!J25 -> 144452 | K21: =global!K21+'4 RPA COs'!N21+'95 COs'!K25 -> 144452 | L21: =global!L21+'4 RPA COs'!O21+'95 COs'!L25 -> 144452 | M21: =global!M21+'4 RPA COs'!P21+'95 COs'!M25 -> 144450 | N21: =SUM(J21:M21) -> 577806
C22: Total UNDP | J22: =SUM(J14:J21) -> 767653 | K22: =SUM(K14:K21) -> 1010320 | L22: =SUM(L14:L21) -> 1003184 | M22: =SUM(M14:M21) -> 1003173 | N22: =SUM(N14:N21) -> 3784330
B23: Total Outcome 1.1. Enabling environment strengthened for effective community-driven integrated approaches_STAR | J23: =J22 -> 767653 | K23: =K22 -> 1010320 | L23: =L22 -> 1003184 | M23: =M22 -> 1003173 | N23: =N22 -> 3784330
A24: Total Component 1 | J24: =J13+J23 -> 1671469 | K24: =K13+K23 -> 1924900 | L24: =L13+L23 -> 1917449 | M24: =M13+M23 -> 1917426 | N24: =N13+N23 -> 7431244
A25: Component 2: Demand-driven grants to CSOs/CBOs (Grants) | B25: Outcome 2.1. Landscape-seascape strategic objectives advanced through community-led grants._CORE | C25: UNDP | D25: 62000 | E25: 10003 | F25: Outcome 2.1_CORE | G25: International Consultants | H25: 71200 | I25: International Consultants | J25: =global!J25+'4 RPA COs'!M25+'95 COs'!J29 -> 8984 | K25: =global!K25+'4 RPA COs'!N25+'95 COs'!K29 -> 8984 | L25: =global!L25+'4 RPA COs'!O25+'95 COs'!L29 -> 8984 | M25: =global!M25+'4 RPA COs'!P25+'95 COs'!M29 -> 8985 | N25: =SUM(J25:M25) -> 35937
F26: Outcome 2.1_CORE | G26: Local Consultants | H26: 71300 | I26: Local Consultants | J26: =global!J26+'4 RPA COs'!M26+'95 COs'!J30 -> 35562 | K26: =global!K26+'4 RPA COs'!N26+'95 COs'!K30 -> 36126 | L26: =global!L26+'4 RPA COs'!O26+'95 COs'!L30 -> 36108 | M26: =global!M26+'4 RPA COs'!P26+'95 COs'!M30 -> 36112 | N26: =SUM(J26:M26) -> 143908
F27: Outcome 2.1_CORE | G27: Contractual Services | H27: 71400 | I27: Contractual Services - Individ | J27: =global!J27+'4 RPA COs'!M27+'95 COs'!J31 -> 544728 | K27: =global!K27+'4 RPA COs'!N27+'95 COs'!K31 -> 553362 | L27: =global!L27+'4 RPA COs'!O27+'95 COs'!L31 -> 553107 | M27: =global!M27+'4 RPA COs'!P27+'95 COs'!M31 -> 553107 | N27: =SUM(J27:M27) -> 2204304
F28: Outcome 2.1_CORE | G28: Travel | H28: 71600 | I28: Travel | J28: =global!J28+'4 RPA COs'!M28+'95 COs'!J32 -> 1548 | K28: =global!K28+'4 RPA COs'!N28+'95 COs'!K32 -> 101408.89 | L28: =global!L28+'4 RPA COs'!O28+'95 COs'!L32 -> 1953 | M28: =global!M28+'4 RPA COs'!P28+'95 COs'!M32 -> 1956.11 | N28: =SUM(J28:M28) -> 106866
F29: Outcome 2.1_CORE | G29: Office Supplies | H29: 72500 | I29: Supplies | J29: =global!J29+'4 RPA COs'!M29+'95 COs'!J33 -> 2246 | K29: =global!K29+'4 RPA COs'!N29+'95 COs'!K33 -> 2282 | L29: =global!L29+'4 RPA COs'!O29+'95 COs'!L33 -> 2282 | M29: =global!M29+'4 RPA COs'!P29+'95 COs'!M33 -> 2277 | N29: =SUM(J29:M29) -> 9087
F30: Outcome 2.1_CORE | G30: Trainings, Workshops, Meetings | H30: 75700 | I30: Training, Workshops and Confer | J30: =global!J30+'4 RPA COs'!M30+'95 COs'!J34 -> 11367 | K30: =global!K30+'4 RPA COs'!N30+'95 COs'!K34 -> 11547 | L30: =global!L30+'4 RPA COs'!O30+'95 COs'!L34 -> 11541 | M30: =global!M30+'4 RPA COs'!P30+'95 COs'!M34 -> 11542 | N30: =SUM(J30:M30) -> 45997
F31: Outcome 2.1_CORE | G31: Salaries and Benefits | H31: 61200 | I31: Salaries Costs - GS Staff | J31: =global!J31+'4 RPA COs'!M31+'95 COs'!J35 -> 73266 | K31: =global!K31+'4 RPA COs'!N31+'95 COs'!K35 -> 73266 | L31: =global!L31+'4 RPA COs'!O31+'95 COs'!L35 -> 73266 | M31: =global!M31+'4 RPA COs'!P31+'95 COs'!M35 -> 73267 | N31: =SUM(J31:M31) -> 293065
F32: Outcome 2.1_CORE | G32: Salaries and Benefits | H32: 61300 | I32: Salary & Post Adj Cst-IP Staff | J32: =global!J32+'4 RPA COs'!M32+'95 COs'!J36 -> 133959 | K32: =global!K32+'4 RPA COs'!N32+'95 COs'!K36 -> 133959 | L32: =global!L32+'4 RPA COs'!O32+'95 COs'!L36 -> 133959 | M32: =global!M32+'4 RPA COs'!P32+'95 COs'!M36 -> 133959 | N32: =SUM(J32:M32) -> 535836
F33: Outcome 2.1_CORE | G33: Grants | H33: 72600 | I33: Grants | J33: =global!J33+'4 RPA COs'!M33+'95 COs'!J37 -> 4339772.7 | K33: =global!K33+'4 RPA COs'!N33+'95 COs'!K37 -> 18089999 | L33: =global!L33+'4 RPA COs'!O33+'95 COs'!L37 -> 15920112 | M33: =global!M33+'4 RPA COs'!P33+'95 COs'!M37 -> 6875115.8 | N33: =SUM(J33:M33) -> 45225000
C34: Total UNDP | J34: =SUM(J25:J33) -> 5151432.7 | K34: =SUM(K25:K33) -> 19010934 | L34: =SUM(L25:L33) -> 16741312 | M34: =SUM(M25:M33) -> 7696320.9 | N34: =SUM(N25:N33) -> 48600000
B35: Total Outcome 2.1. Landscape-seascape strategic objectives advanced through community-led grants._CORE | J35: =J34 -> 5151432.7 | K35: =K34 -> 19010934 | L35: =L34 -> 16741312 | M35: =M34 -> 7696320.9 | N35: =N34 -> 48600000
B36: Outcome 2.1. Landscape-seascape strategic objectives advanced through community-led grants._STAR | C36: UNDP | D36: 62000 | E36: 10003 | F36: Outcome 2.1_STAR | G36: International Consultants | H36: 71200 | I36: International Consultants | J36: =global!J36+'4 RPA COs'!M36+'95 COs'!J40 -> 9323 | K36: =global!K36+'4 RPA COs'!N36+'95 COs'!K40 -> 9323 | L36: =global!L36+'4 RPA COs'!O36+'95 COs'!L40 -> 9323 | M36: =global!M36+'4 RPA COs'!P36+'95 COs'!M40 -> 9322 | N36: =SUM(J36:M36) -> 37291
F37: Outcome 2.1_STAR | G37: Local Consultants | H37: 71300 | I37: Local Consultants | J37: =global!J37+'4 RPA COs'!M37+'95 COs'!J41 -> 26488 | K37: =global!K37+'4 RPA COs'!N37+'95 COs'!K41 -> 41238 | L37: =global!L37+'4 RPA COs'!O37+'95 COs'!L41 -> 40804 | M37: =global!M37+'4 RPA COs'!P37+'95 COs'!M41 -> 40801 | N37: =SUM(J37:M37) -> 149331
F38: Outcome 2.1_STAR | G38: Contractual Services | H38: 71400 | I38: Contractual Services - Individ | J38: =global!J38+'4 RPA COs'!M38+'95 COs'!J42 -> 433240 | K38: =global!K38+'4 RPA COs'!N38+'95 COs'!K42 -> 621737 | L38: =global!L38+'4 RPA COs'!O38+'95 COs'!L42 -> 616194 | M38: =global!M38+'4 RPA COs'!P38+'95 COs'!M42 -> 616191 | N38: =SUM(J38:M38) -> 2287362
F39: Outcome 2.1_STAR | G39: Travel | H39: 71600 | I39: Travel | J39: =global!J39+'4 RPA COs'!M39+'95 COs'!J43 -> 3956 | K39: =global!K39+'4 RPA COs'!N39+'95 COs'!K43 -> 77763.64 | L39: =global!L39+'4 RPA COs'!O39+'95 COs'!L43 -> 14587 | M39: =global!M39+'4 RPA COs'!P39+'95 COs'!M43 -> 14586.36 | N39: =SUM(J39:M39) -> 110893
F40: Outcome 2.1_STAR | G40: Office Supplies | H40: 72500 | I40: Supplies | J40: =global!J40+'4 RPA COs'!M40+'95 COs'!J44 -> 1672 | K40: =global!K40+'4 RPA COs'!N40+'95 COs'!K44 -> 2602 | L40: =global!L40+'4 RPA COs'!O40+'95 COs'!L44 -> 2576 | M40: =global!M40+'4 RPA COs'!P40+'95 COs'!M44 -> 2579 | N40: =SUM(J40:M40) -> 9429
F41: Outcome 2.1_STAR | G41: Trainings, Workshops, Meetings | H41: 75700 | I41: Training, Workshops and Confer | J41: =global!J41+'4 RPA COs'!M41+'95 COs'!J45 -> 8466 | K41: =global!K41+'4 RPA COs'!N41+'95 COs'!K45 -> 13180 | L41: =global!L41+'4 RPA COs'!O41+'95 COs'!L45 -> 13042 | M41: =global!M41+'4 RPA COs'!P41+'95 COs'!M45 -> 13042 | N41: =SUM(J41:M41) -> 47730
F42: Outcome 2.1_STAR | G42: Salaries and Benefits | H42: 61200 | I42: Salaries Costs - GS Staff | J42: =global!J42+'4 RPA COs'!M42+'95 COs'!J46 -> 76027 | K42: =global!K42+'4 RPA COs'!N42+'95 COs'!K46 -> 76027 | L42: =global!L42+'4 RPA COs'!O42+'95 COs'!L46 -> 76027 | M42: =global!M42+'4 RPA COs'!P42+'95 COs'!M46 -> 76027 | N42: =SUM(J42:M42) -> 304108
...

Sheet global
I1: Grant | J1: 0.1 | K1: 0.4 | L1: 0.35 | M1: 0.15 | N1: 1
I2: Non-grant | J2: 0.25 | K2: 0.25 | L2: 0.25 | M2: 0.25 | N2: 1
A3: Quantum Outcome (GEF Component) | B3: Quantum Activity (GEF Output) | C3: Quantum UNDP(UNDP, IP) | D3: Quantum Fund ID | E3: Quantum Donor ID | F3: Output | G3: Expenditure Category GEF | H3: Quantum Budgetary Account Code | I3: Quantum Budget Account Description | J3: Amount Year 2025 | K3: Amount Year 2026 | L3: Amount Year 2027 | M3: Amount Year 2028 | N3: Total (USD) | O3: See Budget Note: (reference as number, not as letter)
A4: Component 1: Strategic Planning and Multi-Stakeholder Governance | B4: Outcome 1.1. Enabling environment strengthened for effective community-driven integrated approaches_CORE | C4: UNDP | D4: 62000 | E4: 10003 | F4: Outcome 1.1_CORE | G4: International Consultants | H4: 71200 | I4: International Consultants | J4: =ROUND($N4*J$2,0) -> 9336 | K4: =ROUND($N4*K$2,0) -> 9336 | L4: =ROUND($N4*L$2,0) -> 9336 | M4: =N4-SUM(J4:L4) -> 9337 | N4: ='TBWP_OP8 part 1_CORE&STAR'!N4-'4 RPA COs'!Q4-'95 COs'!N8 -> 37345
F5: Outcome 1.1_CORE | G5: Local Consultants | H5: 71300 | I5: Local Consultants | J5: =ROUND($N5*J$2,0) -> 36956 | K5: =ROUND($N5*K$2,0) -> 36956 | L5: =ROUND($N5*L$2,0) -> 36956 | M5: =N5-SUM(J5:L5) -> 36954 | N5: ='TBWP_OP8 part 1_CORE&STAR'!N5-'4 RPA COs'!Q5-'95 COs'!N9 -> 147822
F6: Outcome 1.1_CORE | G6: Contractual Services | H6: 71400 | I6: Contractual Services - Individ | J6: =ROUND($N6*J$2,0) -> 567651 | K6: =ROUND($N6*K$2,0) -> 567651 | L6: =ROUND($N6*L$2,0) -> 567651 | M6: =N6-SUM(J6:L6) -> 567651 | N6: ='TBWP_OP8 part 1_CORE&STAR'!N6-'4 RPA COs'!Q6-'95 COs'!N10 -> 2270604
F7: Outcome 1.1_CORE | G7: Travel | H7: 71600 | I7: Travel | J7: =ROUND($N7*J$2,0) -> 60385 | K7: =ROUND($N7*K$2,0) -> 60385 | L7: =ROUND($N7*L$2,0) -> 60385 | M7: =N7-SUM(J7:L7) -> 60385 | N7: ='TBWP_OP8 part 1_CORE&STAR'!N7-'4 RPA COs'!Q7-'95 COs'!N11 -> 241540
F8: Outcome 1.1_CORE | G8: Office Supplies | H8: 72500 | I8: Supplies | J8: =ROUND($N8*J$2,0) -> 2334 | K8: =ROUND($N8*K$2,0) -> 2334 | L8: =ROUND($N8*L$2,0) -> 2334 | M8: =N8-SUM(J8:L8) -> 2332 | N8: ='TBWP_OP8 part 1_CORE&STAR'!N8-'4 RPA COs'!Q8-'95 COs'!N12 -> 9334
F9: Outcome 1.1_CORE | G9: Trainings, Workshops, Meetings | H9: 75700 | I9: Training, Workshops and Confer | J9: =ROUND($N9*J$2,0) -> 11812 | K9: =ROUND($N9*K$2,0) -> 11812 | L9: =ROUND($N9*L$2,0) -> 11812 | M9: =N9-SUM(J9:L9) -> 11811 | N9: ='TBWP_OP8 part 1_CORE&STAR'!N9-'4 RPA COs'!Q9-'95 COs'!N13 -> 47247
F10: Outcome 1.1_CORE | G10: Salaries and Benefits | H10: 61200 | I10: Salaries Costs - GS Staff | J10: =ROUND($N10*J$2,0) -> 76136 | K10: =ROUND($N10*K$2,0) -> 76136 | L10: =ROUND($N10*L$2,0) -> 76136 | M10: =N10-SUM(J10:L10) -> 76135 | N10: ='TBWP_OP8 part 1_CORE&STAR'!N10-'4 RPA COs'!Q10-'95 COs'!N14 -> 304543
F11: Outcome 1.1_CORE | G11: Salaries and Benefits | H11: 61300 | I11: Salary & Post Adj Cst-IP Staff | J11: =ROUND($N11*J$2,0) -> 139206 | K11: =ROUND($N11*K$2,0) -> 139206 | L11: =ROUND($N11*L$2,0) -> 139206 | M11: =N11-SUM(J11:L11) -> 139205 | N11: ='TBWP_OP8 part 1_CORE&STAR'!N11-'4 RPA COs'!Q11-'95 COs'!N15 -> 556823
C12: Total UNDP | J12: =SUM(J4:J11) -> 903816 | K12: =SUM(K4:K11) -> 903816 | L12: =SUM(L4:L11) -> 903816 | M12: =SUM(M4:M11) -> 903810 | N12: =SUM(N4:N11) -> 3615258
B13: Total Outcome 1.1. Enabling environment strengthened for effective community-driven integrated approaches_CORE | J13: =J12 -> 903816 | K13: =K12 -> 903816 | L13: =L12 -> 903816 | M13: =M12 -> 903810 | N13: =N12 -> 3615258
B14: Outcome 1.1. Enabling environment strengthened for effective community-driven integrated approaches_STAR | C14: UNDP | D14: 62000 | E14: 10003 | F14: Outcome 1.1_STAR | G14: International Consultants | H14: 71200 | I14: International Consultants | J14: =ROUND($N14*J$2,0) -> 9688 | K14: =ROUND($N14*K$2,0) -> 9688 | L14: =ROUND($N14*L$2,0) -> 9688 | M14: =N14-SUM(J14:L14) -> 9688 | N14: ='TBWP_OP8 part 1_CORE&STAR'!N14-'4 RPA COs'!Q14-'95 COs'!N18 -> 38752
F15: Outcome 1.1_STAR | G15: Local Consultants | H15: 71300 | I15: Local Consultants | J15: =ROUND($N15*J$2,0) -> 27525 | K15: =ROUND($N15*K$2,0) -> 27525 | L15: =ROUND($N15*L$2,0) -> 27525 | M15: =N15-SUM(J15:L15) -> 27524 | N15: ='TBWP_OP8 part 1_CORE&STAR'!N15-'4 RPA COs'!Q15-'95 COs'!N19 -> 110099
F16: Outcome 1.1_STAR | G16: Contractual Services | H16: 71400 | I16: Contractual Services - Individ | J16: =ROUND($N16*J$2,0) -> 451472 | K16: =ROUND($N16*K$2,0) -> 451472 | L16: =ROUND($N16*L$2,0) -> 451472 | M16: =N16-SUM(J16:L16) -> 451470 | N16: ='TBWP_OP8 part 1_CORE&STAR'!N16-'4 RPA COs'!Q16-'95 COs'!N20 -> 1805886
F17: Outcome 1.1_STAR | G17: Travel | H17: 71600 | I17: Travel | J17: =ROUND($N17*J$2,0) -> 44975 | K17: =ROUND($N17*K$2,0) -> 44975 | L17: =ROUND($N17*L$2,0) -> 44975 | M17: =N17-SUM(J17:L17) -> 44976 | N17: ='TBWP_OP8 part 1_CORE&STAR'!N17-'4 RPA COs'!Q17-'95 COs'!N21 -> 179901
F18: Outcome 1.1_STAR | G18: Office Supplies | H18: 72500 | I18: Supplies | J18: =ROUND($N18*J$2,0) -> 1738 | K18: =ROUND($N18*K$2,0) -> 1738 | L18: =ROUND($N18*L$2,0) -> 1738 | M18: =N18-SUM(J18:L18) -> 1736 | N18: ='TBWP_OP8 part 1_CORE&STAR'!N18-'4 RPA COs'!Q18-'95 COs'!N22 -> 6950
F19: Outcome 1.1_STAR | G19: Trainings, Workshops, Meetings | H19: 75700 | I19: Training, Workshops and Confer | J19: =ROUND($N19*J$2,0) -> 8798 | K19: =ROUND($N19*K$2,0) -> 8798 | L19: =ROUND($N19*L$2,0) -> 8798 | M19: =N19-SUM(J19:L19) -> 8797 | N19: ='TBWP_OP8 part 1_CORE&STAR'!N19-'4 RPA COs'!Q19-'95 COs'!N23 -> 35191
F20: Outcome 1.1_STAR | G20: Salaries and Benefits | H20: 61200 | I20: Salaries Costs - GS Staff | J20: =ROUND($N20*J$2,0) -> 79005 | K20: =ROUND($N20*K$2,0) -> 79005 | L20: =ROUND($N20*L$2,0) -> 79005 | M20: =N20-SUM(J20:L20) -> 79004 | N20: ='TBWP_OP8 part 1_CORE&STAR'!N20-'4 RPA COs'!Q20-'95 COs'!N24 -> 316019
F21: Outcome 1.1_STAR | G21: Salaries and Benefits | H21: 61300 | I21: Salary & Post Adj Cst-IP Staff | J21: =ROUND($N21*J$2,0) -> 144452 | K21: =ROUND($N21*K$2,0) -> 144452 | L21: =ROUND($N21*L$2,0) -> 144452 | M21: =N21-SUM(J21:L21) -> 144450 | N21: ='TBWP_OP8 part 1_CORE&STAR'!N21-'4 RPA COs'!Q21-'95 COs'!N25 -> 577806
C22: Total UNDP | J22: =SUM(J14:J21) -> 767653 | K22: =SUM(K14:K21) -> 767653 | L22: =SUM(L14:L21) -> 767653 | M22: =SUM(M14:M21) -> 767645 | N22: =SUM(N14:N21) -> 3070604
B23: Total Outcome 1.1. Enabling environment strengthened for effective community-driven integrated approaches_STAR | J23: =J22 -> 767653 | K23: =K22 -> 767653 | L23: =L22 -> 767653 | M23: =M22 -> 767645 | N23: =N22 -> 3070604
A24: Total Component 1 | J24: =J13+J23 -> 1671469 | K24: =K13+K23 -> 1671469 | L24: =L13+L23 -> 1671469 | M24: =M13+M23 -> 1671455 | N24: =N13+N23 -> 6685862
A25: Component 2: Demand-driven grants to CSOs/CBOs (Grants) | B25: Outcome 2.1. Landscape-seascape strategic objectives advanced through community-led grants._CORE | C25: UNDP | D25: 62000 | E25: 10003 | F25: Outcome 2.1_CORE | G25: International Consultants | H25: 71200 | I25: International Consultants | J25: =ROUND($N25*J$2,0) -> 8984 | K25: =ROUND($N25*K$2,0) -> 8984 | L25: =ROUND($N25*L$2,0) -> 8984 | M25: =N25-SUM(J25:L25) -> 8985 | N25: ='TBWP_OP8 part 1_CORE&STAR'!N25-'4 RPA COs'!Q25-'95 COs'!N29 -> 35937
F26: Outcome 2.1_CORE | G26: Local Consultants | H26: 71300 | I26: Local Consultants | J26: =ROUND($N26*J$2,0) -> 35562 | K26: =ROUND($N26*K$2,0) -> 35562 | L26: =ROUND($N26*L$2,0) -> 35562 | M26: =N26-SUM(J26:L26) -> 35563 | N26: ='TBWP_OP8 part 1_CORE&STAR'!N26-'4 RPA COs'!Q26-'95 COs'!N30 -> 142249
F27: Outcome 2.1_CORE | G27: Contractual Services | H27: 71400 | I27: Contractual Services - Individ | J27: =ROUND($N27*J$2,0) -> 544728 | K27: =ROUND($N27*K$2,0) -> 544728 | L27: =ROUND($N27*L$2,0) -> 544728 | M27: =N27-SUM(J27:L27) -> 544728 | N27: ='TBWP_OP8 part 1_CORE&STAR'!N27-'4 RPA COs'!Q27-'95 COs'!N31 -> 2178912
F28: Outcome 2.1_CORE | G28: Travel | H28: 71600 | I28: Travel | J28: =ROUND($N28*J$2,0) -> 1548 | K28: =ROUND($N28*K$2,0) -> 1548 | L28: =ROUND($N28*L$2,0) -> 1548 | M28: =N28-SUM(J28:L28) -> 1548.11 | N28: ='TBWP_OP8 part 1_CORE&STAR'!N28-'4 RPA COs'!Q28-'95 COs'!N32 -> 6192.11
F29: Outcome 2.1_CORE | G29: Office Supplies | H29: 72500 | I29: Supplies | J29: =ROUND($N29*J$2,0) -> 2246 | K29: =ROUND($N29*K$2,0) -> 2246 | L29: =ROUND($N29*L$2,0) -> 2246 | M29: =N29-SUM(J29:L29) -> 2244 | N29: ='TBWP_OP8 part 1_CORE&STAR'!N29-'4 RPA COs'!Q29-'95 COs'!N33 -> 8982
F30: Outcome 2.1_CORE | G30: Trainings, Workshops, Meetings | H30: 75700 | I30: Training, Workshops and Confer | J30: =ROUND($N30*J$2,0) -> 11367 | K30: =ROUND($N30*K$2,0) -> 11367 | L30: =ROUND($N30*L$2,0) -> 11367 | M30: =N30-SUM(J30:L30) -> 11365 | N30: ='TBWP_OP8 part 1_CORE&STAR'!N30-'4 RPA COs'!Q30-'95 COs'!N34 -> 45466
F31: Outcome 2.1_CORE | G31: Salaries and Benefits | H31: 61200 | I31: Salaries Costs - GS Staff | J31: =ROUND($N31*J$2,0) -> 73266 | K31: =ROUND($N31*K$2,0) -> 73266 | L31: =ROUND($N31*L$2,0) -> 73266 | M31: =N31-SUM(J31:L31) -> 73267 | N31: ='TBWP_OP8 part 1_CORE&STAR'!N31-'4 RPA COs'!Q31-'95 COs'!N35 -> 293065
F32: Outcome 2.1_CORE | G32: Salaries and Benefits | H32: 61300 | I32: Salary & Post Adj Cst-IP Staff | J32: =ROUND($N32*J$2,0) -> 133959 | K32: =ROUND($N32*K$2,0) -> 133959 | L32: =ROUND($N32*L$2,0) -> 133959 | M32: =N32-SUM(J32:L32) -> 133959 | N32: ='TBWP_OP8 part 1_CORE&STAR'!N32-'4 RPA COs'!Q32-'95 COs'!N36 -> 535836
F33: Outcome 2.1_CORE | G33: Grants | H33: 72600 | I33: Grants | J33: =ROUND($N33*J$1,0) -> 0 | K33: =ROUND($N33*K$1,0) -> 0 | L33: =ROUND($N33*L$1,0) -> 0 | M33: =ROUND($N33*M$1,0) -> 0 | N33: ='TBWP_OP8 part 1_CORE&STAR'!N33-'4 RPA COs'!Q33-'95 COs'!N37 -> 0.18000002
C34: Total UNDP | J34: =SUM(J25:J33) -> 811660 | K34: =SUM(K25:K33) -> 811660 | L34: =SUM(L25:L33) -> 811660 | M34: =SUM(M25:M33) -> 811659.11 | N34: =SUM(N25:N33) -> 3246639.3
B35: Total Outcome 2.1. Landscape-seascape strategic objectives advanced through community-led grants._CORE | J35: =J34 -> 811660 | K35: =K34 -> 811660 | L35: =L34 -> 811660 | M35: =M34 -> 811659.11 | N35: =N34 -> 3246639.3
B36: Outcome 2.1. Landscape-seascape strategic objectives advanced through community-led grants._STAR | C36: UNDP | D36: 62000 | E36: 10003 | F36: Outcome 2.1_STAR | G36: International Consultants | H36: 71200 | I36: International Consultants | J36: =ROUND($N36*J$2,0) -> 9323 | K36: =ROUND($N36*K$2,0) -> 9323 | L36: =ROUND($N36*L$2,0) -> 9323 | M36: =N36-SUM(J36:L36) -> 9322 | N36: ='TBWP_OP8 part 1_CORE&STAR'!N36-'4 RPA COs'!Q36-'95 COs'!N40 -> 37291
F37: Outcome 2.1_STAR | G37: Local Consultants | H37: 71300 | I37: Local Consultants | J37: =ROUND($N37*J$2,0) -> 26488 | K37: =ROUND($N37*K$2,0) -> 26488 | L37: =ROUND($N37*L$2,0) -> 26488 | M37: =N37-SUM(J37:L37) -> 26486 | N37: ='TBWP_OP8 part 1_CORE&STAR'!N37-'4 RPA COs'!Q37-'95 COs'!N41 -> 105950
F38: Outcome 2.1_STAR | G38: Contractual Services | H38: 71400 | I38: Contractual Services - Individ | J38: =ROUND($N38*J$2,0) -> 433240 | K38: =ROUND($N38*K$2,0) -> 433240 | L38: =ROUND($N38*L$2,0) -> 433240 | M38: =N38-SUM(J38:L38) -> 433240 | N38: ='TBWP_OP8 part 1_CORE&STAR'!N38-'4 RPA COs'!Q38-'95 COs'!N42 -> 1732960
F39: Outcome 2.1_STAR | G39: Travel | H39: 71600 | I39: Travel | J39: =ROUND($N39*J$2,0) -> 3956 | K39: =ROUND($N39*K$2,0) -> 3956 | L39: =ROUND($N39*L$2,0) -> 3956 | M39: =N39-SUM(J39:L39) -> 3954.36 | N39: ='TBWP_OP8 part 1_CORE&STAR'!N39-'4 RPA COs'!Q39-'95 COs'!N43 -> 15822.36
F40: Outcome 2.1_STAR | G40: Office Supplies | H40: 72500 | I40: Supplies | J40: =ROUND($N40*J$2,0) -> 1672 | K40: =ROUND($N40*K$2,0) -> 1672 | L40: =ROUND($N40*L$2,0) -> 1672 | M40: =N40-SUM(J40:L40) -> 1673 | N40: ='TBWP_OP8 part 1_CORE&STAR'!N40-'4 RPA COs'!Q40-'95 COs'!N44 -> 6689
...

Sheet 4 RPA COs
L1: Grant | M1: 0 | N1: 0.4 | O1: 0.4 | P1: 0.2 | Q1: =SUM(M1:P1) -> 1
L2: Non-grant | M2: 0 | N2: 0.34 | O2: 0.33 | P2: 0.33 | Q2: =SUM(M2:P2) -> 1
A3: Quantum Outcome (GEF Component) | B3: Quantum Activity (GEF Output) | C3: Quantum UNDP(UNDP, IP) | D3: Quantum Fund ID | E3: Quantum Donor ID | F3: PIMS No. | G3: Country | H3: Business Unit | I3: Output | J3: Expenditure Category GEF | K3: Quantum Budgetary Account Code | L3: Quantum Budget Account Description | M3: Amount Year 2025 | N3: Amount Year 2026 | O3: Amount Year 2027 | P3: Amount Year 2028 | Q3: Total (USD) | R3: See Budget Note: (reference as number, not as letter) | S3: ratio | U3: RPA budget summary
A4: Component 1: Strategic Planning and Multi-Stakeholder Governance | B4: Outcome 1.1. Enabling environment strengthened for effective community-driven integrated approaches_CORE | C4: UNDP | D4: 62000 | E4: 10003 | F4: 10180 | G4: Brazil | H4: B0488 | I4: Outcome 1.1_CORE | J4: International Consultants | K4: 71200 | L4: International Consultants | M4: =SUM(budget_Brazil:budget_Egypt!M4) -> 0 | N4: =SUM(budget_Brazil:budget_Egypt!N4) -> 0 | O4: =SUM(budget_Brazil:budget_Egypt!O4) -> 0 | P4: =SUM(budget_Brazil:budget_Egypt!P4) -> 0 | Q4: =SUM(M4:P4) -> 0 | R4: 2 | S4: =VLOOKUP(K4, rpacoreratio, 3, FALSE)*VLOOKUP(K4, rpacoreratio, 8, FALSE) -> 0 | U4: CORE grant | V4: =SUM(budget_Brazil:budget_Egypt!V4) -> 1827272.7 | X4: 71200
F5: 10180 | G5: Brazil | H5: B0488 | I5: Outcome 1.1_CORE | J5: Local Consultants | K5: 71300 | L5: Local Consultants | M5: =SUM(budget_Brazil:budget_Egypt!M5) -> 0 | N5: =SUM(budget_Brazil:budget_Egypt!N5) -> 585 | O5: =SUM(budget_Brazil:budget_Egypt!O5) -> 567 | P5: =SUM(budget_Brazil:budget_Egypt!P5) -> 570 | Q5: =SUM(M5:P5) -> 1722 | R5: 3 | S5: =VLOOKUP(K5, rpacoreratio, 3, FALSE)*VLOOKUP(K5, rpacoreratio, 8, FALSE) -> 0.011484624 | U5: STAR grant | V5: =SUM(budget_Brazil:budget_Egypt!V5) -> 10334750 | X5: 71300
F6: 10180 | G6: Brazil | H6: B0488 | I6: Outcome 1.1_CORE | J6: Contractual Services | K6: 71400 | L6: Contractual Services - Individ | M6: =SUM(budget_Brazil:budget_Egypt!M6) -> 0 | N6: =SUM(budget_Brazil:budget_Egypt!N6) -> 8997 | O6: =SUM(budget_Brazil:budget_Egypt!O6) -> 8733 | P6: =SUM(budget_Brazil:budget_Egypt!P6) -> 8730 | Q6: =SUM(M6:P6) -> 26460 | R6: 5 | S6: =VLOOKUP(K6, rpacoreratio, 3, FALSE)*VLOOKUP(K6, rpacoreratio, 8, FALSE) -> 0.17640953 | U6: CORE non-grant | V6: =SUM(budget_Brazil:budget_Egypt!V6) -> 150000 | X6: 71400
F7: 10180 | G7: Brazil | H7: B0488 | I7: Outcome 1.1_CORE | J7: Travel | K7: 71600 | L7: Travel | M7: =SUM(budget_Brazil:budget_Egypt!M7) -> 0 | N7: =SUM(budget_Brazil:budget_Egypt!N7) -> 957 | O7: =SUM(budget_Brazil:budget_Egypt!O7) -> 930 | P7: =SUM(budget_Brazil:budget_Egypt!P7) -> 927 | Q7: =SUM(M7:P7) -> 2814 | R7: 7 | S7: =VLOOKUP(K7, rpacoreratio, 3, FALSE)*VLOOKUP(K7, rpacoreratio, 8, FALSE) -> 0.018765823 | U7: STAR non-grant | V7: =SUM(budget_Brazil:budget_Egypt!V7) -> 3493044 | X7: 71600
F8: 10180 | G8: Brazil | H8: B0488 | I8: Outcome 1.1_CORE | J8: Office Supplies | K8: 72500 | L8: Supplies | M8: =SUM(budget_Brazil:budget_Egypt!M8) -> 0 | N8: =SUM(budget_Brazil:budget_Egypt!N8) -> 36 | O8: =SUM(budget_Brazil:budget_Egypt!O8) -> 36 | P8: =SUM(budget_Brazil:budget_Egypt!P8) -> 36 | Q8: =SUM(M8:P8) -> 108 | R8: 10 | S8: =VLOOKUP(K8, rpacoreratio, 3, FALSE)*VLOOKUP(K8, rpacoreratio, 8, FALSE) -> 0.0007250959 | V8: =SUM(V4:V7) -> 15805067 | X8: 72500
F9: 10180 | G9: Brazil | H9: B0488 | I9: Outcome 1.1_CORE | J9: Trainings, Workshops, Meetings | K9: 75700 | L9: Training, Workshops and Confer | M9: =SUM(budget_Brazil:budget_Egypt!M9) -> 0 | N9: =SUM(budget_Brazil:budget_Egypt!N9) -> 189 | O9: =SUM(budget_Brazil:budget_Egypt!O9) -> 183 | P9: =SUM(budget_Brazil:budget_Egypt!P9) -> 180 | Q9: =SUM(M9:P9) -> 552 | R9: 6 | S9: =VLOOKUP(K9, rpacoreratio, 3, FALSE)*VLOOKUP(K9, rpacoreratio, 8, FALSE) -> 0.0036708274 | X9: 75700
F10: 10180 | G10: Brazil | H10: B0488 | I10: Outcome 1.1_CORE | J10: Salaries and Benefits | K10: 61200 | L10: Salaries Costs - GS Staff | M10: =SUM(budget_Brazil:budget_Egypt!M10) -> 0 | N10: =SUM(budget_Brazil:budget_Egypt!N10) -> 0 | O10: =SUM(budget_Brazil:budget_Egypt!O10) -> 0 | P10: =SUM(budget_Brazil:budget_Egypt!P10) -> 0 | Q10: =SUM(M10:P10) -> 0 | R10: 4 | S10: =VLOOKUP(K10, rpacoreratio, 3, FALSE)*VLOOKUP(K10, rpacoreratio, 8, FALSE) -> 0 | X10: 61200
F11: 10180 | G11: Brazil | H11: B0488 | I11: Outcome 1.1_CORE | J11: Salaries and Benefits | K11: 61300 | L11: Salary & Post Adj Cst-IP Staff | M11: =SUM(budget_Brazil:budget_Egypt!M11) -> 0 | N11: =SUM(budget_Brazil:budget_Egypt!N11) -> 0 | O11: =SUM(budget_Brazil:budget_Egypt!O11) -> 0 | P11: =SUM(budget_Brazil:budget_Egypt!P11) -> 0 | Q11: =SUM(M11:P11) -> 0 | R11: 4 | S11: =VLOOKUP(K11, rpacoreratio, 3, FALSE)*VLOOKUP(K11, rpacoreratio, 8, FALSE) -> 0 | X11: 61300
C12: Total UNDP | M12: =SUM(M4:M11) -> 0 | N12: =SUM(N4:N11) -> 10764 | O12: =SUM(O4:O11) -> 10449 | P12: =SUM(P4:P11) -> 10443 | Q12: =SUM(Q4:Q11) -> 31656
B13: Total Outcome 1.1. Enabling environment strengthened for effective community-driven integrated approaches_CORE | M13: =M12 -> 0 | N13: =N12 -> 10764 | O13: =O12 -> 10449 | P13: =P12 -> 10443 | Q13: =Q12 -> 31656
B14: Outcome 1.1. Enabling environment strengthened for effective community-driven integrated approaches_STAR | C14: UNDP | D14: 62000 | E14: 10003 | F14: 10180 | G14: Brazil | H14: B0488 | I14: Outcome 1.1_STAR | J14: International Consultants | K14: 71200 | L14: International Consultants | M14: =SUM(budget_Brazil:budget_Egypt!M14) -> 0 | N14: =SUM(budget_Brazil:budget_Egypt!N14) -> 0 | O14: =SUM(budget_Brazil:budget_Egypt!O14) -> 0 | P14: =SUM(budget_Brazil:budget_Egypt!P14) -> 0 | Q14: =SUM(M14:P14) -> 0 | R14: 2 | S14: =VLOOKUP(K14, rpastarratio, 3, FALSE)*VLOOKUP(K14, rpastarratio, 8, FALSE) -> 0 | X14: 71200
F15: 10180 | G15: Brazil | H15: B0488 | I15: Outcome 1.1_STAR | J15: Local Consultants | K15: 71300 | L15: Local Consultants | M15: =SUM(budget_Brazil:budget_Egypt!M15) -> 0 | N15: =SUM(budget_Brazil:budget_Egypt!N15) -> 15328 | O15: =SUM(budget_Brazil:budget_Egypt!O15) -> 14876 | P15: =SUM(budget_Brazil:budget_Egypt!P15) -> 14875 | Q15: =SUM(M15:P15) -> 45079 | R15: 3 | S15: =VLOOKUP(K15, rpastarratio, 3, FALSE)*VLOOKUP(K15, rpastarratio, 8, FALSE) -> 0.011484624 | X15: 71300
F16: 10180 | G16: Brazil | H16: B0488 | I16: Outcome 1.1_STAR | J16: Contractual Services | K16: 71400 | L16: Contractual Services - Individ | M16: =SUM(budget_Brazil:budget_Egypt!M16) -> 0 | N16: =SUM(budget_Brazil:budget_Egypt!N16) -> 196429 | O16: =SUM(budget_Brazil:budget_Egypt!O16) -> 190652 | P16: =SUM(budget_Brazil:budget_Egypt!P16) -> 190650 | Q16: =SUM(M16:P16) -> 577731 | R16: 5 | S16: =VLOOKUP(K16, rpastarratio, 3, FALSE)*VLOOKUP(K16, rpastarratio, 8, FALSE) -> 0.17640953 | X16: 71400
F17: 10180 | G17: Brazil | H17: B0488 | I17: Outcome 1.1_STAR | J17: Travel | K17: 71600 | L17: Travel | M17: =SUM(budget_Brazil:budget_Egypt!M17) -> 0 | N17: =SUM(budget_Brazil:budget_Egypt!N17) -> 25044 | O17: =SUM(budget_Brazil:budget_Egypt!O17) -> 24308 | P17: =SUM(budget_Brazil:budget_Egypt!P17) -> 24308 | Q17: =SUM(M17:P17) -> 73660 | R17: 7 | S17: =VLOOKUP(K17, rpastarratio, 3, FALSE)*VLOOKUP(K17, rpastarratio, 8, FALSE) -> 0.018765823 | X17: 71600
F18: 10180 | G18: Brazil | H18: B0488 | I18: Outcome 1.1_STAR | J18: Office Supplies | K18: 72500 | L18: Supplies | M18: =SUM(budget_Brazil:budget_Egypt!M18) -> 0 | N18: =SUM(budget_Brazil:budget_Egypt!N18) -> 967 | O18: =SUM(budget_Brazil:budget_Egypt!O18) -> 940 | P18: =SUM(budget_Brazil:budget_Egypt!P18) -> 940 | Q18: =SUM(M18:P18) -> 2847 | R18: 10 | S18: =VLOOKUP(K18, rpastarratio, 3, FALSE)*VLOOKUP(K18, rpastarratio, 8, FALSE) -> 0.0007250959 | X18: 72500
F19: 10180 | G19: Brazil | H19: B0488 | I19: Outcome 1.1_STAR | J19: Trainings, Workshops, Meetings | K19: 75700 | L19: Training, Workshops and Confer | M19: =SUM(budget_Brazil:budget_Egypt!M19) -> 0 | N19: =SUM(budget_Brazil:budget_Egypt!N19) -> 4899 | O19: =SUM(budget_Brazil:budget_Egypt!O19) -> 4755 | P19: =SUM(budget_Brazil:budget_Egypt!P19) -> 4755 | Q19: =SUM(M19:P19) -> 14409 | R19: 6 | S19: =VLOOKUP(K19, rpastarratio, 3, FALSE)*VLOOKUP(K19, rpastarratio, 8, FALSE) -> 0.0036708274 | X19: 75700
F20: 10180 | G20: Brazil | H20: B0488 | I20: Outcome 1.1_STAR | J20: Salaries and Benefits | K20: 61200 | L20: Salaries Costs - GS Staff | M20: =SUM(budget_Brazil:budget_Egypt!M20) -> 0 | N20: =SUM(budget_Brazil:budget_Egypt!N20) -> 0 | O20: =SUM(budget_Brazil:budget_Egypt!O20) -> 0 | P20: =SUM(budget_Brazil:budget_Egypt!P20) -> 0 | Q20: =SUM(M20:P20) -> 0 | R20: 4 | S20: =VLOOKUP(K20, rpastarratio, 3, FALSE)*VLOOKUP(K20, rpastarratio, 8, FALSE) -> 0 | X20: 61200
F21: 10180 | G21: Brazil | H21: B0488 | I21: Outcome 1.1_STAR | J21: Salaries and Benefits | K21: 61300 | L21: Salary & Post Adj Cst-IP Staff | M21: =SUM(budget_Brazil:budget_Egypt!M21) -> 0 | N21: =SUM(budget_Brazil:budget_Egypt!N21) -> 0 | O21: =SUM(budget_Brazil:budget_Egypt!O21) -> 0 | P21: =SUM(budget_Brazil:budget_Egypt!P21) -> 0 | Q21: =SUM(M21:P21) -> 0 | R21: 4 | S21: =VLOOKUP(K21, rpastarratio, 3, FALSE)*VLOOKUP(K21, rpastarratio, 8, FALSE) -> 0 | X21: 61300
C22: Total UNDP | M22: =SUM(M14:M21) -> 0 | N22: =SUM(N14:N21) -> 242667 | O22: =SUM(O14:O21) -> 235531 | P22: =SUM(P14:P21) -> 235528 | Q22: =SUM(Q14:Q21) -> 713726
B23: Total Outcome 1.1. Enabling environment strengthened for effective community-driven integrated approaches_STAR | M23: =M22 -> 0 | N23: =N22 -> 242667 | O23: =O22 -> 235531 | P23: =P22 -> 235528 | Q23: =Q22 -> 713726
A24: Total Component 1 | M24: =M13+M23 -> 0 | N24: =N13+N23 -> 253431 | O24: =O13+O23 -> 245980 | P24: =P13+P23 -> 245971 | Q24: =Q13+Q23 -> 745382
A25: Component 2: Demand-driven grants to CSOs/CBOs (Grants) | B25: Outcome 2.1. Landscape-seascape strategic objectives advanced through community-led grants._CORE | C25: UNDP | D25: 62000 | E25: 10003 | F25: 10180 | G25: Brazil | H25: B0488 | I25: Outcome 2.1_CORE | J25: International Consultants | K25: 71200 | L25: International Consultants | M25: =SUM(budget_Brazil:budget_Egypt!M25) -> 0 | N25: =SUM(budget_Brazil:budget_Egypt!N25) -> 0 | O25: =SUM(budget_Brazil:budget_Egypt!O25) -> 0 | P25: =SUM(budget_Brazil:budget_Egypt!P25) -> 0 | Q25: =SUM(M25:P25) -> 0 | R25: 2 | S25: =VLOOKUP(K25, rpacoreratio, 4, FALSE)*VLOOKUP(K25, rpacoreratio, 8, FALSE) -> 0 | X25: 71200
F26: 10180 | G26: Brazil | H26: B0488 | I26: Outcome 2.1_CORE | J26: Local Consultants | K26: 71300 | L26: Local Consultants | M26: =SUM(budget_Brazil:budget_Egypt!M26) -> 0 | N26: =SUM(budget_Brazil:budget_Egypt!N26) -> 564 | O26: =SUM(budget_Brazil:budget_Egypt!O26) -> 546 | P26: =SUM(budget_Brazil:budget_Egypt!P26) -> 549 | Q26: =SUM(M26:P26) -> 1659 | R26: 3 | S26: =VLOOKUP(K26, rpacoreratio, 4, FALSE)*VLOOKUP(K26, rpacoreratio, 8, FALSE) -> 0.01105183 | X26: 71300
F27: 10180 | G27: Brazil | H27: B0488 | I27: Outcome 2.1_CORE | J27: Contractual Services | K27: 71400 | L27: Contractual Services - Individ | M27: =SUM(budget_Brazil:budget_Egypt!M27) -> 0 | N27: =SUM(budget_Brazil:budget_Egypt!N27) -> 8634 | O27: =SUM(budget_Brazil:budget_Egypt!O27) -> 8379 | P27: =SUM(budget_Brazil:budget_Egypt!P27) -> 8379 | Q27: =SUM(M27:P27) -> 25392 | R27: 5 | S27: =VLOOKUP(K27, rpacoreratio, 4, FALSE)*VLOOKUP(K27, rpacoreratio, 8, FALSE) -> 0.16928577 | X27: 71400
F28: 10180 | G28: Brazil | H28: B0488 | I28: Outcome 2.1_CORE | J28: Travel | K28: 71600 | L28: Travel | M28: =SUM(budget_Brazil:budget_Egypt!M28) -> 0 | N28: =SUM(budget_Brazil:budget_Egypt!N28) -> 417 | O28: =SUM(budget_Brazil:budget_Egypt!O28) -> 405 | P28: =SUM(budget_Brazil:budget_Egypt!P28) -> 408 | Q28: =SUM(M28:P28) -> 1230 | R28: 7 | S28: =VLOOKUP(K28, rpacoreratio, 4, FALSE)*VLOOKUP(K28, rpacoreratio, 8, FALSE) -> 0.0082070753 | X28: 71600
F29: 10180 | G29: Brazil | H29: B0488 | I29: Outcome 2.1_CORE | J29: Office Supplies | K29: 72500 | L29: Supplies | M29: =SUM(budget_Brazil:budget_Egypt!M29) -> 0 | N29: =SUM(budget_Brazil:budget_Egypt!N29) -> 36 | O29: =SUM(budget_Brazil:budget_Egypt!O29) -> 36 | P29: =SUM(budget_Brazil:budget_Egypt!P29) -> 33 | Q29: =SUM(M29:P29) -> 105 | R29: 10 | S29: =VLOOKUP(K29, rpacoreratio, 4, FALSE)*VLOOKUP(K29, rpacoreratio, 8, FALSE) -> 0.00069784685 | X29: 72500
F30: 10180 | G30: Brazil | H30: B0488 | I30: Outcome 2.1_CORE | J30: Trainings, Workshops, Meetings | K30: 75700 | L30: Training, Workshops and Confer | M30: =SUM(budget_Brazil:budget_Egypt!M30) -> 0 | N30: =SUM(budget_Brazil:budget_Egypt!N30) -> 180 | O30: =SUM(budget_Brazil:budget_Egypt!O30) -> 174 | P30: =SUM(budget_Brazil:budget_Egypt!P30) -> 177 | Q30: =SUM(M30:P30) -> 531 | R30: 6 | S30: =VLOOKUP(K30, rpacoreratio, 4, FALSE)*VLOOKUP(K30, rpacoreratio, 8, FALSE) -> 0.0035324634 | X30: 75700
F31: 10180 | G31: Brazil | H31: B0488 | I31: Outcome 2.1_CORE | J31: Salaries and Benefits | K31: 61200 | L31: Salaries Costs - GS Staff | M31: =SUM(budget_Brazil:budget_Egypt!M31) -> 0 | N31: =SUM(budget_Brazil:budget_Egypt!N31) -> 0 | O31: =SUM(budget_Brazil:budget_Egypt!O31) -> 0 | P31: =SUM(budget_Brazil:budget_Egypt!P31) -> 0 | Q31: =SUM(M31:P31) -> 0 | R31: 4 | S31: =VLOOKUP(K31, rpacoreratio, 4, FALSE)*VLOOKUP(K31, rpacoreratio, 8, FALSE) -> 0 | X31: 61200
F32: 10180 | G32: Brazil | H32: B0488 | I32: Outcome 2.1_CORE | J32: Salaries and Benefits | K32: 61300 | L32: Salary & Post Adj Cst-IP Staff | M32: =SUM(budget_Brazil:budget_Egypt!M32) -> 0 | N32: =SUM(budget_Brazil:budget_Egypt!N32) -> 0 | O32: =SUM(budget_Brazil:budget_Egypt!O32) -> 0 | P32: =SUM(budget_Brazil:budget_Egypt!P32) -> 0 | Q32: =SUM(M32:P32) -> 0 | R32: 4 | S32: =VLOOKUP(K32, rpacoreratio, 4, FALSE)*VLOOKUP(K32, rpacoreratio, 8, FALSE) -> 0 | X32: 61300
F33: 10180 | G33: Brazil | H33: B0488 | I33: Outcome 2.1_CORE | J33: Grants | K33: 72600 | L33: Grants | M33: =SUM(budget_Brazil:budget_Egypt!M33) -> 0 | N33: =SUM(budget_Brazil:budget_Egypt!N33) -> 730908 | O33: =SUM(budget_Brazil:budget_Egypt!O33) -> 730908 | P33: =SUM(budget_Brazil:budget_Egypt!P33) -> 365456.72 | Q33: =SUM(M33:P33) -> 1827272.7 | R33: 1 | S33: =VLOOKUP(K33, rpacoreratio, 4, FALSE)*VLOOKUP(K33, rpacoreratio, 8, FALSE) -> 0 | X33: 72600
C34: Total UNDP | M34: =SUM(M25:M33) -> 0 | N34: =SUM(N25:N33) -> 740739 | O34: =SUM(O25:O33) -> 740448 | P34: =SUM(P25:P33) -> 375002.72 | Q34: =SUM(Q25:Q33) -> 1856189.7
B35: Total Outcome 2.1. Landscape-seascape strategic objectives advanced through community-led grants._CORE | M35: =M34 -> 0 | N35: =N34 -> 740739 | O35: =O34 -> 740448 | P35: =P34 -> 375002.72 | Q35: =Q34 -> 1856189.7
B36: Outcome 2.1. Landscape-seascape strategic objectives advanced through community-led grants._STAR | C36: UNDP | D36: 62000 | E36: 10003 | F36: 10180 | G36: Brazil | H36: B0488 | I36: Outcome 2.1_STAR | J36: International Consultants | K36: 71200 | L36: International Consultants | M36: =SUM(budget_Brazil:budget_Egypt!M36) -> 0 | N36: =SUM(budget_Brazil:budget_Egypt!N36) -> 0 | O36: =SUM(budget_Brazil:budget_Egypt!O36) -> 0 | P36: =SUM(budget_Brazil:budget_Egypt!P36) -> 0 | Q36: =SUM(M36:P36) -> 0 | R36: 2 | S36: =VLOOKUP(K36, rpastarratio, 4, FALSE)*VLOOKUP(K36, rpastarratio, 8, FALSE) -> 0 | X36: 71200
F37: 10180 | G37: Brazil | H37: B0488 | I37: Outcome 2.1_STAR | J37: Local Consultants | K37: 71300 | L37: Local Consultants | M37: =SUM(budget_Brazil:budget_Egypt!M37) -> 0 | N37: =SUM(budget_Brazil:budget_Egypt!N37) -> 14750 | O37: =SUM(budget_Brazil:budget_Egypt!O37) -> 14316 | P37: =SUM(budget_Brazil:budget_Egypt!P37) -> 14315 | Q37: =SUM(M37:P37) -> 43381 | R37: 3 | S37: =VLOOKUP(K37, rpastarratio, 4, FALSE)*VLOOKUP(K37, rpastarratio, 8, FALSE) -> 0.01105183 | X37: 71300
F38: 10180 | G38: Brazil | H38: B0488 | I38: Outcome 2.1_STAR | J38: Contractual Services | K38: 71400 | L38: Contractual Services - Individ | M38: =SUM(budget_Brazil:budget_Egypt!M38) -> 0 | N38: =SUM(budget_Brazil:budget_Egypt!N38) -> 188497 | O38: =SUM(budget_Brazil:budget_Egypt!O38) -> 182954 | P38: =SUM(budget_Brazil:budget_Egypt!P38) -> 182951 | Q38: =SUM(M38:P38) -> 554402 | R38: 5 | S38: =VLOOKUP(K38, rpastarratio, 4, FALSE)*VLOOKUP(K38, rpastarratio, 8, FALSE) -> 0.16928577 | X38: 71400
F39: 10180 | G39: Brazil | H39: B0488 | I39: Outcome 2.1_STAR | J39: Travel | K39: 71600 | L39: Travel | M39: =SUM(budget_Brazil:budget_Egypt!M39) -> 0 | N39: =SUM(budget_Brazil:budget_Egypt!N39) -> 10953 | O39: =SUM(budget_Brazil:budget_Egypt!O39) -> 10631 | P39: =SUM(budget_Brazil:budget_Egypt!P39) -> 10632 | Q39: =SUM(M39:P39) -> 32216 | R39: 7 | S39: =VLOOKUP(K39, rpastarratio, 4, FALSE)*VLOOKUP(K39, rpastarratio, 8, FALSE) -> 0.0082070753 | X39: 71600
F40: 10180 | G40: Brazil | H40: B0488 | I40: Outcome 2.1_STAR | J40: Office Supplies | K40: 72500 | L40: Supplies | M40: =SUM(budget_Brazil:budget_Egypt!M40) -> 0 | N40: =SUM(budget_Brazil:budget_Egypt!N40) -> 930 | O40: =SUM(budget_Brazil:budget_Egypt!O40) -> 904 | P40: =SUM(budget_Brazil:budget_Egypt!P40) -> 906 | Q40: =SUM(M40:P40) -> 2740 | R40: 10 | S40: =VLOOKUP(K40, rpastarratio, 4, FALSE)*VLOOKUP(K40, rpastarratio, 8, FALSE) -> 0.00069784685 | X40: 72500
...

Sheet budget_Brazil
L1: Grant | M1: 0 | N1: 0.4 | O1: 0.4 | P1: 0.2 | Q1: =SUM(M1:P1) -> 1
L2: Non-grant | M2: 0 | N2: 0.34 | O2: 0.33 | P2: 0.33 | Q2: =SUM(M2:P2) -> 1
A3: Quantum Outcome (GEF Component) | B3: Quantum Activity (GEF Output) | C3: Quantum UNDP(UNDP, IP) | D3: Quantum Fund ID | E3: Quantum Donor ID | F3: PIMS No. | G3: Country | H3: Business Unit | I3: Output | J3: Expenditure Category GEF | K3: Quantum Budgetary Account Code | L3: Quantum Budget Account Description | M3: Amount Year 2025 | N3: Amount Year 2026 | O3: Amount Year 2027 | P3: Amount Year 2028 | Q3: Total (USD) | R3: See Budget Note: (reference as number, not as letter) | S3: ratio | U3: RPA budget summary
A4: Component 1: Strategic Planning and Multi-Stakeholder Governance | B4: Outcome 1.1. Enabling environment strengthened for effective community-driven integrated approaches_CORE | C4: UNDP | D4: 62000 | E4: 10003 | F4: 10180 | G4: Brazil | H4: B0488 | I4: Outcome 1.1_CORE | J4: International Consultants | K4: 71200 | L4: International Consultants | M4: =ROUND(M$2*$Q4,0) -> 0 | N4: =ROUND(N$2*$Q4,0) -> 0 | O4: =ROUND(O$2*$Q4,0) -> 0 | P4: =Q4-SUM(M4:O4) -> 0 | Q4: =ROUND($V$6*S4,0) -> 0 | R4: 2 | S4: =VLOOKUP(K4, rpacoreratio, 3, FALSE)*VLOOKUP(K4, rpacoreratio, 8, FALSE) -> 0 | U4: CORE grant | V4: =[3]RPA_Kris!B3 -> 456818.18
F5: 10180 | G5: Brazil | H5: B0488 | I5: Outcome 1.1_CORE | J5: Local Consultants | K5: 71300 | L5: Local Consultants | M5: =ROUND(M$2*$Q5,0) -> 0 | N5: =ROUND(N$2*$Q5,0) -> 195 | O5: =ROUND(O$2*$Q5,0) -> 189 | P5: =Q5-SUM(M5:O5) -> 190 | Q5: =ROUND($V$6*S5,0) -> 574 | R5: 3 | S5: =VLOOKUP(K5, rpacoreratio, 3, FALSE)*VLOOKUP(K5, rpacoreratio, 8, FALSE) -> 0.011484624 | U5: STAR grant | V5: =[3]RPA_Kris!B4 -> 2680000
F6: 10180 | G6: Brazil | H6: B0488 | I6: Outcome 1.1_CORE | J6: Contractual Services | K6: 71400 | L6: Contractual Services - Individ | M6: =ROUND(M$2*$Q6,0) -> 0 | N6: =ROUND(N$2*$Q6,0) -> 2999 | O6: =ROUND(O$2*$Q6,0) -> 2911 | P6: =Q6-SUM(M6:O6) -> 2910 | Q6: =ROUND($V$6*S6,0) -> 8820 | R6: 5 | S6: =VLOOKUP(K6, rpacoreratio, 3, FALSE)*VLOOKUP(K6, rpacoreratio, 8, FALSE) -> 0.17640953 | U6: CORE non-grant | V6: =[3]RPA_Kris!B5 -> 50000
F7: 10180 | G7: Brazil | H7: B0488 | I7: Outcome 1.1_CORE | J7: Travel | K7: 71600 | L7: Travel | M7: =ROUND(M$2*$Q7,0) -> 0 | N7: =ROUND(N$2*$Q7,0) -> 319 | O7: =ROUND(O$2*$Q7,0) -> 310 | P7: =Q7-SUM(M7:O7) -> 309 | Q7: =ROUND($V$6*S7,0) -> 938 | R7: 7 | S7: =VLOOKUP(K7, rpacoreratio, 3, FALSE)*VLOOKUP(K7, rpacoreratio, 8, FALSE) -> 0.018765823 | U7: STAR non-grant | V7: =[3]RPA_Kris!B6 -> 928310
F8: 10180 | G8: Brazil | H8: B0488 | I8: Outcome 1.1_CORE | J8: Office Supplies | K8: 72500 | L8: Supplies | M8: =ROUND(M$2*$Q8,0) -> 0 | N8: =ROUND(N$2*$Q8,0) -> 12 | O8: =ROUND(O$2*$Q8,0) -> 12 | P8: =Q8-SUM(M8:O8) -> 12 | Q8: =ROUND($V$6*S8,0) -> 36 | R8: 10 | S8: =VLOOKUP(K8, rpacoreratio, 3, FALSE)*VLOOKUP(K8, rpacoreratio, 8, FALSE) -> 0.0007250959 | V8: =SUM(V4:V7) -> 4115128.2
F9: 10180 | G9: Brazil | H9: B0488 | I9: Outcome 1.1_CORE | J9: Trainings, Workshops, Meetings | K9: 75700 | L9: Training, Workshops and Confer | M9: =ROUND(M$2*$Q9,0) -> 0 | N9: =ROUND(N$2*$Q9,0) -> 63 | O9: =ROUND(O$2*$Q9,0) -> 61 | P9: =Q9-SUM(M9:O9) -> 60 | Q9: =ROUND($V$6*S9,0) -> 184 | R9: 6 | S9: =VLOOKUP(K9, rpacoreratio, 3, FALSE)*VLOOKUP(K9, rpacoreratio, 8, FALSE) -> 0.0036708274
F10: 10180 | G10: Brazil | H10: B0488 | I10: Outcome 1.1_CORE | J10: Salaries and Benefits | K10: 61200 | L10: Salaries Costs - GS Staff | M10: =ROUND(M$2*$Q10,0) -> 0 | N10: =ROUND(N$2*$Q10,0) -> 0 | O10: =ROUND(O$2*$Q10,0) -> 0 | P10: =Q10-SUM(M10:O10) -> 0 | Q10: =ROUND($V$6*S10,0) -> 0 | R10: 4 | S10: =VLOOKUP(K10, rpacoreratio, 3, FALSE)*VLOOKUP(K10, rpacoreratio, 8, FALSE) -> 0
F11: 10180 | G11: Brazil | H11: B0488 | I11: Outcome 1.1_CORE | J11: Salaries and Benefits | K11: 61300 | L11: Salary & Post Adj Cst-IP Staff | M11: =ROUND(M$2*$Q11,0) -> 0 | N11: =ROUND(N$2*$Q11,0) -> 0 | O11: =ROUND(O$2*$Q11,0) -> 0 | P11: =Q11-SUM(M11:O11) -> 0 | Q11: =ROUND($V$6*S11,0) -> 0 | R11: 4 | S11: =VLOOKUP(K11, rpacoreratio, 3, FALSE)*VLOOKUP(K11, rpacoreratio, 8, FALSE) -> 0
C12: Total UNDP | M12: =SUM(M4:M11) -> 0 | N12: =SUM(N4:N11) -> 3588 | O12: =SUM(O4:O11) -> 3483 | P12: =SUM(P4:P11) -> 3481 | Q12: =SUM(Q4:Q11) -> 10552
B13: Total Outcome 1.1. Enabling environment strengthened for effective community-driven integrated approaches_CORE | M13: =M12 -> 0 | N13: =N12 -> 3588 | O13: =O12 -> 3483 | P13: =P12 -> 3481 | Q13: =Q12 -> 10552
B14: Outcome 1.1. Enabling environment strengthened for effective community-driven integrated approaches_STAR | C14: UNDP | D14: 62000 | E14: 10003 | F14: 10180 | G14: Brazil | H14: B0488 | I14: Outcome 1.1_STAR | J14: International Consultants | K14: 71200 | L14: International Consultants | M14: =ROUND(M$2*$Q14,0) -> 0 | N14: =ROUND(N$2*$Q14,0) -> 0 | O14: =ROUND(O$2*$Q14,0) -> 0 | P14: =Q14-SUM(M14:O14) -> 0 | Q14: =ROUND($V$7*S14,0) -> 0 | R14: 2 | S14: =VLOOKUP(K14, rpastarratio, 3, FALSE)*VLOOKUP(K14, rpastarratio, 8, FALSE) -> 0
F15: 10180 | G15: Brazil | H15: B0488 | I15: Outcome 1.1_STAR | J15: Local Consultants | K15: 71300 | L15: Local Consultants | M15: =ROUND(M$2*$Q15,0) -> 0 | N15: =ROUND(N$2*$Q15,0) -> 3625 | O15: =ROUND(O$2*$Q15,0) -> 3518 | P15: =Q15-SUM(M15:O15) -> 3518 | Q15: =ROUND($V$7*S15,0) -> 10661 | R15: 3 | S15: =VLOOKUP(K15, rpastarratio, 3, FALSE)*VLOOKUP(K15, rpastarratio, 8, FALSE) -> 0.011484624
F16: 10180 | G16: Brazil | H16: B0488 | I16: Outcome 1.1_STAR | J16: Contractual Services | K16: 71400 | L16: Contractual Services - Individ | M16: =ROUND(M$2*$Q16,0) -> 0 | N16: =ROUND(N$2*$Q16,0) -> 55679 | O16: =ROUND(O$2*$Q16,0) -> 54042 | P16: =Q16-SUM(M16:O16) -> 54042 | Q16: =ROUND($V$7*S16,0) -> 163763 | R16: 5 | S16: =VLOOKUP(K16, rpastarratio, 3, FALSE)*VLOOKUP(K16, rpastarratio, 8, FALSE) -> 0.17640953
F17: 10180 | G17: Brazil | H17: B0488 | I17: Outcome 1.1_STAR | J17: Travel | K17: 71600 | L17: Travel | M17: =ROUND(M$2*$Q17,0) -> 0 | N17: =ROUND(N$2*$Q17,0) -> 5923 | O17: =ROUND(O$2*$Q17,0) -> 5749 | P17: =Q17-SUM(M17:O17) -> 5749 | Q17: =ROUND($V$7*S17,0) -> 17421 | R17: 7 | S17: =VLOOKUP(K17, rpastarratio, 3, FALSE)*VLOOKUP(K17, rpastarratio, 8, FALSE) -> 0.018765823
F18: 10180 | G18: Brazil | H18: B0488 | I18: Outcome 1.1_STAR | J18: Office Supplies | K18: 72500 | L18: Supplies | M18: =ROUND(M$2*$Q18,0) -> 0 | N18: =ROUND(N$2*$Q18,0) -> 229 | O18: =ROUND(O$2*$Q18,0) -> 222 | P18: =Q18-SUM(M18:O18) -> 222 | Q18: =ROUND($V$7*S18,0) -> 673 | R18: 10 | S18: =VLOOKUP(K18, rpastarratio, 3, FALSE)*VLOOKUP(K18, rpastarratio, 8, FALSE) -> 0.0007250959
F19: 10180 | G19: Brazil | H19: B0488 | I19: Outcome 1.1_STAR | J19: Trainings, Workshops, Meetings | K19: 75700 | L19: Training, Workshops and Confer | M19: =ROUND(M$2*$Q19,0) -> 0 | N19: =ROUND(N$2*$Q19,0) -> 1159 | O19: =ROUND(O$2*$Q19,0) -> 1125 | P19: =Q19-SUM(M19:O19) -> 1124 | Q19: =ROUND($V$7*S19,0) -> 3408 | R19: 6 | S19: =VLOOKUP(K19, rpastarratio, 3, FALSE)*VLOOKUP(K19, rpastarratio, 8, FALSE) -> 0.0036708274
F20: 10180 | G20: Brazil | H20: B0488 | I20: Outcome 1.1_STAR | J20: Salaries and Benefits | K20: 61200 | L20: Salaries Costs - GS Staff | M20: =ROUND(M$2*$Q20,0) -> 0 | N20: =ROUND(N$2*$Q20,0) -> 0 | O20: =ROUND(O$2*$Q20,0) -> 0 | P20: =Q20-SUM(M20:O20) -> 0 | Q20: =ROUND($V$7*S20,0) -> 0 | R20: 4 | S20: =VLOOKUP(K20, rpastarratio, 3, FALSE)*VLOOKUP(K20, rpastarratio, 8, FALSE) -> 0
F21: 10180 | G21: Brazil | H21: B0488 | I21: Outcome 1.1_STAR | J21: Salaries and Benefits | K21: 61300 | L21: Salary & Post Adj Cst-IP Staff | M21: =ROUND(M$2*$Q21,0) -> 0 | N21: =ROUND(N$2*$Q21,0) -> 0 | O21: =ROUND(O$2*$Q21,0) -> 0 | P21: =Q21-SUM(M21:O21) -> 0 | Q21: =ROUND($V$7*S21,0) -> 0 | R21: 4 | S21: =VLOOKUP(K21, rpastarratio, 3, FALSE)*VLOOKUP(K21, rpastarratio, 8, FALSE) -> 0
C22: Total UNDP | M22: =SUM(M14:M21) -> 0 | N22: =SUM(N14:N21) -> 66615 | O22: =SUM(O14:O21) -> 64656 | P22: =SUM(P14:P21) -> 64655 | Q22: =SUM(Q14:Q21) -> 195926
B23: Total Outcome 1.1. Enabling environment strengthened for effective community-driven integrated approaches_STAR | M23: =M22 -> 0 | N23: =N22 -> 66615 | O23: =O22 -> 64656 | P23: =P22 -> 64655 | Q23: =Q22 -> 195926
A24: Total Component 1 | M24: =M13+M23 -> 0 | N24: =N13+N23 -> 70203 | O24: =O13+O23 -> 68139 | P24: =P13+P23 -> 68136 | Q24: =Q13+Q23 -> 206478
A25: Component 2: Demand-driven grants to CSOs/CBOs (Grants) | B25: Outcome 2.1. Landscape-seascape strategic objectives advanced through community-led grants._CORE | C25: UNDP | D25: 62000 | E25: 10003 | F25: 10180 | G25: Brazil | H25: B0488 | I25: Outcome 2.1_CORE | J25: International Consultants | K25: 71200 | L25: International Consultants | M25: =ROUND(M$2*$Q25,0) -> 0 | N25: =ROUND(N$2*$Q25,0) -> 0 | O25: =ROUND(O$2*$Q25,0) -> 0 | P25: =Q25-SUM(M25:O25) -> 0 | Q25: =ROUND($V$6*S25,0) -> 0 | R25: 2 | S25: =VLOOKUP(K25, rpacoreratio, 4, FALSE)*VLOOKUP(K25, rpacoreratio, 8, FALSE) -> 0
F26: 10180 | G26: Brazil | H26: B0488 | I26: Outcome 2.1_CORE | J26: Local Consultants | K26: 71300 | L26: Local Consultants | M26: =ROUND(M$2*$Q26,0) -> 0 | N26: =ROUND(N$2*$Q26,0) -> 188 | O26: =ROUND(O$2*$Q26,0) -> 182 | P26: =Q26-SUM(M26:O26) -> 183 | Q26: =ROUND($V$6*S26,0) -> 553 | R26: 3 | S26: =VLOOKUP(K26, rpacoreratio, 4, FALSE)*VLOOKUP(K26, rpacoreratio, 8, FALSE) -> 0.01105183
F27: 10180 | G27: Brazil | H27: B0488 | I27: Outcome 2.1_CORE | J27: Contractual Services | K27: 71400 | L27: Contractual Services - Individ | M27: =ROUND(M$2*$Q27,0) -> 0 | N27: =ROUND(N$2*$Q27,0) -> 2878 | O27: =ROUND(O$2*$Q27,0) -> 2793 | P27: =Q27-SUM(M27:O27) -> 2793 | Q27: =ROUND($V$6*S27,0) -> 8464 | R27: 5 | S27: =VLOOKUP(K27, rpacoreratio, 4, FALSE)*VLOOKUP(K27, rpacoreratio, 8, FALSE) -> 0.16928577
F28: 10180 | G28: Brazil | H28: B0488 | I28: Outcome 2.1_CORE | J28: Travel | K28: 71600 | L28: Travel | M28: =ROUND(M$2*$Q28,0) -> 0 | N28: =ROUND(N$2*$Q28,0) -> 139 | O28: =ROUND(O$2*$Q28,0) -> 135 | P28: =Q28-SUM(M28:O28) -> 136 | Q28: =ROUND($V$6*S28,0) -> 410 | R28: 7 | S28: =VLOOKUP(K28, rpacoreratio, 4, FALSE)*VLOOKUP(K28, rpacoreratio, 8, FALSE) -> 0.0082070753
F29: 10180 | G29: Brazil | H29: B0488 | I29: Outcome 2.1_CORE | J29: Office Supplies | K29: 72500 | L29: Supplies | M29: =ROUND(M$2*$Q29,0) -> 0 | N29: =ROUND(N$2*$Q29,0) -> 12 | O29: =ROUND(O$2*$Q29,0) -> 12 | P29: =Q29-SUM(M29:O29) -> 11 | Q29: =ROUND($V$6*S29,0) -> 35 | R29: 10 | S29: =VLOOKUP(K29, rpacoreratio, 4, FALSE)*VLOOKUP(K29, rpacoreratio, 8, FALSE) -> 0.00069784685
F30: 10180 | G30: Brazil | H30: B0488 | I30: Outcome 2.1_CORE | J30: Trainings, Workshops, Meetings | K30: 75700 | L30: Training, Workshops and Confer | M30: =ROUND(M$2*$Q30,0) -> 0 | N30: =ROUND(N$2*$Q30,0) -> 60 | O30: =ROUND(O$2*$Q30,0) -> 58 | P30: =Q30-SUM(M30:O30) -> 59 | Q30: =ROUND($V$6*S30,0) -> 177 | R30: 6 | S30: =VLOOKUP(K30, rpacoreratio, 4, FALSE)*VLOOKUP(K30, rpacoreratio, 8, FALSE) -> 0.0035324634
F31: 10180 | G31: Brazil | H31: B0488 | I31: Outcome 2.1_CORE | J31: Salaries and Benefits | K31: 61200 | L31: Salaries Costs - GS Staff | M31: =ROUND(M$2*$Q31,0) -> 0 | N31: =ROUND(N$2*$Q31,0) -> 0 | O31: =ROUND(O$2*$Q31,0) -> 0 | P31: =Q31-SUM(M31:O31) -> 0 | Q31: =ROUND($V$6*S31,0) -> 0 | R31: 4 | S31: =VLOOKUP(K31, rpacoreratio, 4, FALSE)*VLOOKUP(K31, rpacoreratio, 8, FALSE) -> 0
F32: 10180 | G32: Brazil | H32: B0488 | I32: Outcome 2.1_CORE | J32: Salaries and Benefits | K32: 61300 | L32: Salary & Post Adj Cst-IP Staff | M32: =ROUND(M$2*$Q32,0) -> 0 | N32: =ROUND(N$2*$Q32,0) -> 0 | O32: =ROUND(O$2*$Q32,0) -> 0 | P32: =Q32-SUM(M32:O32) -> 0 | Q32: =ROUND($V$6*S32,0) -> 0 | R32: 4 | S32: =VLOOKUP(K32, rpacoreratio, 4, FALSE)*VLOOKUP(K32, rpacoreratio, 8, FALSE) -> 0
F33: 10180 | G33: Brazil | H33: B0488 | I33: Outcome 2.1_CORE | J33: Grants | K33: 72600 | L33: Grants | M33: =ROUND(M$1*$Q33, 0) -> 0 | N33: =ROUND(N$1*$Q33, 0) -> 182727 | O33: =ROUND(O$1*$Q33, 0) -> 182727 | P33: =Q33-SUM(M33:O33) -> 91364.18 | Q33: =V4 -> 456818.18 | R33: 1 | S33: =VLOOKUP(K33, rpacoreratio, 4, FALSE)*VLOOKUP(K33, rpacoreratio, 8, FALSE) -> 0
C34: Total UNDP | M34: =SUM(M25:M33) -> 0 | N34: =SUM(N25:N33) -> 186004 | O34: =SUM(O25:O33) -> 185907 | P34: =SUM(P25:P33) -> 94546.18 | Q34: =SUM(Q25:Q33) -> 466457.18
B35: Total Outcome 2.1. Landscape-seascape strategic objectives advanced through community-led grants._CORE | M35: =M34 -> 0 | N35: =N34 -> 186004 | O35: =O34 -> 185907 | P35: =P34 -> 94546.18 | Q35: =Q34 -> 466457.18
B36: Outcome 2.1. Landscape-seascape strategic objectives advanced through community-led grants._STAR | C36: UNDP | D36: 62000 | E36: 10003 | F36: 10180 | G36: Brazil | H36: B0488 | I36: Outcome 2.1_STAR | J36: International Consultants | K36: 71200 | L36: International Consultants | M36: =ROUND(M$2*$Q36,0) -> 0 | N36: =ROUND(N$2*$Q36,0) -> 0 | O36: =ROUND(O$2*$Q36,0) -> 0 | P36: =Q36-SUM(M36:O36) -> 0 | Q36: =ROUND($V$7*S36,0) -> 0 | R36: 2 | S36: =VLOOKUP(K36, rpastarratio, 4, FALSE)*VLOOKUP(K36, rpastarratio, 8, FALSE) -> 0
F37: 10180 | G37: Brazil | H37: B0488 | I37: Outcome 2.1_STAR | J37: Local Consultants | K37: 71300 | L37: Local Consultants | M37: =ROUND(M$2*$Q37,0) -> 0 | N37: =ROUND(N$2*$Q37,0) -> 3488 | O37: =ROUND(O$2*$Q37,0) -> 3386 | P37: =Q37-SUM(M37:O37) -> 3386 | Q37: =ROUND($V$7*S37,0) -> 10260 | R37: 3 | S37: =VLOOKUP(K37, rpastarratio, 4, FALSE)*VLOOKUP(K37, rpastarratio, 8, FALSE) -> 0.01105183
F38: 10180 | G38: Brazil | H38: B0488 | I38: Outcome 2.1_STAR | J38: Contractual Services | K38: 71400 | L38: Contractual Services - Individ | M38: =ROUND(M$2*$Q38,0) -> 0 | N38: =ROUND(N$2*$Q38,0) -> 53431 | O38: =ROUND(O$2*$Q38,0) -> 51860 | P38: =Q38-SUM(M38:O38) -> 51859 | Q38: =ROUND($V$7*S38,0) -> 157150 | R38: 5 | S38: =VLOOKUP(K38, rpastarratio, 4, FALSE)*VLOOKUP(K38, rpastarratio, 8, FALSE) -> 0.16928577
F39: 10180 | G39: Brazil | H39: B0488 | I39: Outcome 2.1_STAR | J39: Travel | K39: 71600 | L39: Travel | M39: =ROUND(M$2*$Q39,0) -> 0 | N39: =ROUND(N$2*$Q39,0) -> 2590 | O39: =ROUND(O$2*$Q39,0) -> 2514 | P39: =Q39-SUM(M39:O39) -> 2515 | Q39: =ROUND($V$7*S39,0) -> 7619 | R39: 7 | S39: =VLOOKUP(K39, rpastarratio, 4, FALSE)*VLOOKUP(K39, rpastarratio, 8, FALSE) -> 0.0082070753
F40: 10180 | G40: Brazil | H40: B0488 | I40: Outcome 2.1_STAR | J40: Office Supplies | K40: 72500 | L40: Supplies | M40: =ROUND(M$2*$Q40,0) -> 0 | N40: =ROUND(N$2*$Q40,0) -> 220 | O40: =ROUND(O$2*$Q40,0) -> 214 | P40: =Q40-SUM(M40:O40) -> 214 | Q40: =ROUND($V$7*S40,0) -> 648 | R40: 10 | S40: =VLOOKUP(K40, rpastarratio, 4, FALSE)*VLOOKUP(K40, rpastarratio, 8, FALSE) -> 0.00069784685
...

Sheet budget_India
L1: Grant | M1: 0 | N1: 0.4 | O1: 0.4 | P1: 0.2 | Q1: =SUM(M1:P1) -> 1
L2: Non-grant | M2: 0 | N2: 0.34 | O2: 0.33 | P2: 0.33 | Q2: =SUM(M2:P2) -> 1
